BEGIN:VCALENDAR
VERSION:2.0
PRODID:-//St Dominic's Parish - ECPv4.3.3//NONSGML v1.0//EN
CALSCALE:GREGORIAN
METHOD:PUBLISH
X-WR-CALNAME:St Dominic's Parish
X-ORIGINAL-URL:http://stdominicsparish.ie
X-WR-CALDESC:Events for St Dominic's Parish
BEGIN:VEVENT
DTSTART;TZID=UTC+0:20170920T080000
DTEND;TZID=UTC+0:20170920T170000
DTSTAMP:20171106T085800
CREATED:20170920T093623Z
LAST-MODIFIED:20170920T093623Z
UID:8316-1505894400-1505926800@stdominicsparish.ie
SUMMARY:TRIDUUM TO OUR LADY OF FATIMA
DESCRIPTION:There will be a Novena to Our Lady of Fatima in St Dominic's Church on October 11\,12\,13th of October at 7;30pm. . The preacher will be the famous  Roasry priest. Fr Gabriel Harty OP \, All are welcome and invited\n\n\n to attend 
URL:http://stdominicsparish.ie/event/triduum-to-our-lady-of-fatima/
END:VEVENT
END:VCALENDAR