BEGIN:VCALENDAR
VERSION:2.0
PRODID:-//St Dominic's Parish - ECPv4.3.3//NONSGML v1.0//EN
CALSCALE:GREGORIAN
METHOD:PUBLISH
X-WR-CALNAME:St Dominic's Parish
X-ORIGINAL-URL:http://stdominicsparish.ie
X-WR-CALDESC:Events for St Dominic's Parish
BEGIN:VEVENT
DTSTART;TZID=UTC+0:20170911T080000
DTEND;TZID=UTC+0:20170911T170000
DTSTAMP:20171106T085744
CREATED:20170911T124932Z
LAST-MODIFIED:20170911T124932Z
UID:8312-1505116800-1505149200@stdominicsparish.ie
SUMMARY:Triduum to our Lady of Fatima 2017
DESCRIPTION:St Dominic's Parish will hold a Triduum to our Lady of Fatima from 11th-13th of October 2017 at 7:30pm each evening. The Preacher will be Fr Gabriel Harty OP - the Famous Rosary Priest.\n\n\n 
URL:http://stdominicsparish.ie/event/triduum-to-our-lady-of-fatima-2017/
END:VEVENT
END:VCALENDAR