BEGIN:VCALENDAR
VERSION:2.0
PRODID:-//St Dominic's Parish - ECPv4.3.3//NONSGML v1.0//EN
CALSCALE:GREGORIAN
METHOD:PUBLISH
X-WR-CALNAME:St Dominic's Parish
X-ORIGINAL-URL:http://stdominicsparish.ie
X-WR-CALDESC:Events for St Dominic's Parish
BEGIN:VEVENT
DTSTART;TZID=UTC+0:20171024T080000
DTEND;TZID=UTC+0:20171024T170000
DTSTAMP:20171106T085853
CREATED:20171024T105119Z
LAST-MODIFIED:20171024T105119Z
UID:8343-1508832000-1508864400@stdominicsparish.ie
SUMMARY:OCTOBER BANK HOLIDAY WEEKEND
DESCRIPTION:Reminder: \nClocks go back this weekend 29th October. \n\nBANK HOLIDAY \nTHIS MONDAY 30TH OCTOBER IS A BANK HOLIDAY \nPARISH OFFICE WILL BE CLOSED \nMASS WILL BE AT 11AM 
URL:http://stdominicsparish.ie/event/october-bank-holiday-weekend/
END:VEVENT
END:VCALENDAR