BEGIN:VCALENDAR
VERSION:2.0
PRODID:-//St Dominic's Parish - ECPv4.3.3//NONSGML v1.0//EN
CALSCALE:GREGORIAN
METHOD:PUBLISH
X-WR-CALNAME:St Dominic's Parish
X-ORIGINAL-URL:http://stdominicsparish.ie
X-WR-CALDESC:Events for St Dominic's Parish
BEGIN:VEVENT
DTSTART;TZID=UTC+0:20161205T183000
DTEND;TZID=UTC+0:20161207T183000
DTSTAMP:20171106T085215
CREATED:20161118T205149Z
LAST-MODIFIED:20161118T205149Z
UID:8194-1480962600-1481135400@stdominicsparish.ie
SUMMARY:Jubilee Advent Triduum
DESCRIPTION:As part of the Dominican 800 Jubilee\, St Dominic's Parish will hold an Advent Triduum on December 5\, 6 & 7 at 6:30. The preacher for these events will be Fr Joe Kavanagh OP\n\n \n\n
URL:http://stdominicsparish.ie/event/jubilee-advent-triduum/
LOCATION:Ireland
CATEGORIES:ministry
END:VEVENT
END:VCALENDAR