BEGIN:VCALENDAR
VERSION:2.0
PRODID:-//St Dominic's Parish - ECPv4.3.3//NONSGML v1.0//EN
CALSCALE:GREGORIAN
METHOD:PUBLISH
X-WR-CALNAME:St Dominic's Parish
X-ORIGINAL-URL:http://stdominicsparish.ie
X-WR-CALDESC:Events for St Dominic's Parish
BEGIN:VEVENT
DTSTART;TZID=UTC+0:20161218T070000
DTEND;TZID=UTC+0:20161218T205000
DTSTAMP:20171106T085705
CREATED:20161207T122353Z
LAST-MODIFIED:20161207T122506Z
UID:8232-1482044400-1482094200@stdominicsparish.ie
SUMMARY:Annual Carol Service
DESCRIPTION:Takes place on Sunday 18th December at 7pm in St Dominic's Church. The Youth Choir\, Folk Group and members of the Brigins will be providing the music for the evening. 
URL:http://stdominicsparish.ie/event/annual-carol-service/
END:VEVENT
END:VCALENDAR