BEGIN:VCALENDAR
VERSION:2.0
PRODID:-//St Dominic's Parish - ECPv4.3.3//NONSGML v1.0//EN
CALSCALE:GREGORIAN
METHOD:PUBLISH
X-WR-CALNAME:St Dominic's Parish
X-ORIGINAL-URL:http://stdominicsparish.ie
X-WR-CALDESC:Events for St Dominic's Parish
BEGIN:VEVENT
DTSTART;TZID=UTC+0:20161202T080000
DTEND;TZID=UTC+0:20161202T170000
DTSTAMP:20171106T085632
CREATED:20161202T094340Z
LAST-MODIFIED:20161202T094340Z
UID:8213-1480665600-1480698000@stdominicsparish.ie
SUMMARY:Advent Triduum
DESCRIPTION:
URL:http://stdominicsparish.ie/event/advent-triduum/
END:VEVENT
END:VCALENDAR